BEGIN:VCALENDAR
VERSION:2.0
PRODID:-//Mairie de Cornillé - ECPv6.15.20//NONSGML v1.0//EN
CALSCALE:GREGORIAN
METHOD:PUBLISH
X-ORIGINAL-URL:https://www.mairiecornille.fr
X-WR-CALDESC:Évènements pour Mairie de Cornillé
REFRESH-INTERVAL;VALUE=DURATION:PT1H
X-Robots-Tag:noindex
X-PUBLISHED-TTL:PT1H
BEGIN:VTIMEZONE
TZID:Europe/Paris
BEGIN:DAYLIGHT
TZOFFSETFROM:+0100
TZOFFSETTO:+0200
TZNAME:CEST
DTSTART:20250330T010000
END:DAYLIGHT
BEGIN:STANDARD
TZOFFSETFROM:+0200
TZOFFSETTO:+0100
TZNAME:CET
DTSTART:20251026T010000
END:STANDARD
BEGIN:DAYLIGHT
TZOFFSETFROM:+0100
TZOFFSETTO:+0200
TZNAME:CEST
DTSTART:20260329T010000
END:DAYLIGHT
BEGIN:STANDARD
TZOFFSETFROM:+0200
TZOFFSETTO:+0100
TZNAME:CET
DTSTART:20261025T010000
END:STANDARD
BEGIN:DAYLIGHT
TZOFFSETFROM:+0100
TZOFFSETTO:+0200
TZNAME:CEST
DTSTART:20270328T010000
END:DAYLIGHT
BEGIN:STANDARD
TZOFFSETFROM:+0200
TZOFFSETTO:+0100
TZNAME:CET
DTSTART:20271031T010000
END:STANDARD
END:VTIMEZONE
BEGIN:VEVENT
DTSTART;TZID=Europe/Paris:20260314T080000
DTEND;TZID=Europe/Paris:20260314T170000
DTSTAMP:20260420T141616
CREATED:20251222T102945Z
LAST-MODIFIED:20251222T103136Z
UID:4502-1773475200-1773507600@www.mairiecornille.fr
SUMMARY:Soirée de l'Espérance Football Club
DESCRIPTION:
URL:https://www.mairiecornille.fr/evenement/soiree-de-lesperance-football-club/
END:VEVENT
BEGIN:VEVENT
DTSTART;TZID=Europe/Paris:20260314T080000
DTEND;TZID=Europe/Paris:20260314T170000
DTSTAMP:20260420T141616
CREATED:20260305T082349Z
LAST-MODIFIED:20260305T082349Z
UID:4613-1773475200-1773507600@www.mairiecornille.fr
SUMMARY:Soirée Tartiflette EFC - SAMEDI 14 MARS 2026
DESCRIPTION:
URL:https://www.mairiecornille.fr/evenement/soiree-tartiflette-efc-samedi-14-mars-2026/
END:VEVENT
BEGIN:VEVENT
DTSTART;TZID=Europe/Paris:20260322T080000
DTEND;TZID=Europe/Paris:20260322T180000
DTSTAMP:20260420T141616
CREATED:20260305T081612Z
LAST-MODIFIED:20260305T082232Z
UID:4610-1774166400-1774202400@www.mairiecornille.fr
SUMMARY:Vide grenier APEL Ecole Sainte-Anne Cornillé
DESCRIPTION:
URL:https://www.mairiecornille.fr/evenement/vide-grenier/
END:VEVENT
END:VCALENDAR